BEGIN:VCALENDAR
VERSION:2.0
PRODID:-//The Accounting Sciety at Baylor - ECPv6.15.18//NONSGML v1.0//EN
CALSCALE:GREGORIAN
METHOD:PUBLISH
X-WR-CALNAME:The Accounting Sciety at Baylor
X-ORIGINAL-URL:https://accountingsocietyatbaylor.org
X-WR-CALDESC:Events for The Accounting Sciety at Baylor
REFRESH-INTERVAL;VALUE=DURATION:PT1H
X-Robots-Tag:noindex
X-PUBLISHED-TTL:PT1H
BEGIN:VTIMEZONE
TZID:America/Chicago
BEGIN:DAYLIGHT
TZOFFSETFROM:-0600
TZOFFSETTO:-0500
TZNAME:CDT
DTSTART:20250309T080000
END:DAYLIGHT
BEGIN:STANDARD
TZOFFSETFROM:-0500
TZOFFSETTO:-0600
TZNAME:CST
DTSTART:20251102T070000
END:STANDARD
BEGIN:DAYLIGHT
TZOFFSETFROM:-0600
TZOFFSETTO:-0500
TZNAME:CDT
DTSTART:20260308T080000
END:DAYLIGHT
BEGIN:STANDARD
TZOFFSETFROM:-0500
TZOFFSETTO:-0600
TZNAME:CST
DTSTART:20261101T070000
END:STANDARD
BEGIN:DAYLIGHT
TZOFFSETFROM:-0600
TZOFFSETTO:-0500
TZNAME:CDT
DTSTART:20270314T080000
END:DAYLIGHT
BEGIN:STANDARD
TZOFFSETFROM:-0500
TZOFFSETTO:-0600
TZNAME:CST
DTSTART:20271107T070000
END:STANDARD
END:VTIMEZONE
BEGIN:VEVENT
DTSTART;TZID=America/Chicago:20260415T173000
DTEND;TZID=America/Chicago:20260415T183000
DTSTAMP:20260420T201213
CREATED:20260305T163153Z
LAST-MODIFIED:20260305T163153Z
UID:318-1776274200-1776277800@accountingsocietyatbaylor.org
SUMMARY:Debate
DESCRIPTION:
URL:https://accountingsocietyatbaylor.org/event/debate/
LOCATION:Foster 240
END:VEVENT
BEGIN:VEVENT
DTSTART;TZID=America/Chicago:20260422T170000
DTEND;TZID=America/Chicago:20260422T180000
DTSTAMP:20260420T201213
CREATED:20260305T163713Z
LAST-MODIFIED:20260305T163713Z
UID:327-1776877200-1776880800@accountingsocietyatbaylor.org
SUMMARY:Headshot/Photographing Event
DESCRIPTION:
URL:https://accountingsocietyatbaylor.org/event/headshot-photographing-event/
END:VEVENT
BEGIN:VEVENT
DTSTART;TZID=America/Chicago:20260429T170000
DTEND;TZID=America/Chicago:20260429T180000
DTSTAMP:20260420T201213
CREATED:20260305T163746Z
LAST-MODIFIED:20260305T163746Z
UID:329-1777482000-1777485600@accountingsocietyatbaylor.org
SUMMARY:Annual Membership Meeting
DESCRIPTION:
URL:https://accountingsocietyatbaylor.org/event/annual-membership-meeting/
END:VEVENT
BEGIN:VEVENT
DTSTART;TZID=America/Chicago:20260501T170000
DTEND;TZID=America/Chicago:20260501T183000
DTSTAMP:20260420T201213
CREATED:20260305T163244Z
LAST-MODIFIED:20260305T163827Z
UID:321-1777654800-1777660200@accountingsocietyatbaylor.org
SUMMARY:End-of-Year Banquet
DESCRIPTION:
URL:https://accountingsocietyatbaylor.org/event/accounting-society-banquet/
LOCATION:Hankamer School of Business
END:VEVENT
END:VCALENDAR